BEGIN:VCALENDAR
VERSION:2.0
PRODID:-//ChamberMaster//Event Calendar 2.0//EN
METHOD:PUBLISH
X-PUBLISHED-TTL:P3D
REFRESH-INTERVAL:P3D
CALSCALE:GREGORIAN
BEGIN:VEVENT
DTSTART:20200805T000000Z
DTEND:20200805T010000Z
X-MICROSOFT-CDO-ALLDAYEVENT:FALSE
SUMMARY:Tuesdays in the Park
DESCRIPTION:Enjoy live music in the City Park\; bring your lawn chair.  In case of rain\, the event will be cancelled.\n\nMusic by Eric Reitan.
X-ALT-DESC;FMTTYPE=text/html:Enjoy live music in the City Park\; bring your lawn chair.&nbsp\; In case of rain\, the event will be cancelled.<br />\nMusic by Eric Reitan.
LOCATION:Detroit Lakes City Park Bandshell 1361 Washington Avenue Detroit Lakes\, MN
UID:e.1164.35342
SEQUENCE:3
DTSTAMP:20260421T102240Z
URL:https://business.visitdetroitlakes.com/events/details/tuesdays-in-the-park-35342
END:VEVENT

END:VCALENDAR
