BEGIN:VCALENDAR
VERSION:2.0
PRODID:-//ChamberMaster//Event Calendar 2.0//EN
METHOD:PUBLISH
X-PUBLISHED-TTL:P3D
REFRESH-INTERVAL:P3D
CALSCALE:GREGORIAN
BEGIN:VEVENT
DTSTART:20170305T190000Z
DTEND:20170305T210000Z
X-MICROSOFT-CDO-ALLDAYEVENT:FALSE
SUMMARY:Snowshoe Hike
DESCRIPTION:Snowshoe Hike\n\nExplore the winter woods on snow shoes. We'll identify wildlife tracks\, watch for porcupine and look for snow fleas. Dress warm and meet at the Visitor Center for this one mile trek through the woods on the Bear Paw Spur Trail. Bring your own or borrow a set. Only a few adult snow shoes are available\, lots of kid's sizes. This hike is co-hosted with the Laurentian Lakes Chapter of the North Country National Scenic Trail.
X-ALT-DESC;FMTTYPE=text/html:Snowshoe Hike<br />\nExplore the winter woods on snow shoes. We&#39\;ll identify wildlife tracks\, watch for porcupine and look for snow fleas. Dress warm and meet at the Visitor Center for this one mile trek through the woods on the Bear Paw Spur Trail. Bring your own or borrow a set. Only a few adult snow shoes are available\, lots of kid&#39\;s&nbsp\;sizes. This hike is co-hosted with the Laurentian Lakes Chapter of the North Country National Scenic Trail.<br />\n&nbsp\;
LOCATION:Tamarac National Wildlife Refuge 35704 Co Hwy. 26 Rochert\, Minnesota
UID:e.1164.23577
SEQUENCE:3
DTSTAMP:20260420T173109Z
URL:https://business.visitdetroitlakes.com/events/details/snowshoe-hike-23577
END:VEVENT

END:VCALENDAR
