BEGIN:VCALENDAR
VERSION:2.0
PRODID:-//ChamberMaster//Event Calendar 2.0//EN
METHOD:PUBLISH
X-PUBLISHED-TTL:P3D
REFRESH-INTERVAL:P3D
CALSCALE:GREGORIAN
BEGIN:VEVENT
DTSTART:20200124T013000Z
DTEND:20200124T030000Z
X-MICROSOFT-CDO-ALLDAYEVENT:FALSE
SUMMARY:Sawyer Brown
DESCRIPTION:Sawyer Brown\n\nAmerican Country Music at its finest! Sawyer Brown has released eighteen studio albums and charted over 50 times with several Number 1 singles including Step That Step\, Some Girls Do\, and Thank God for You.
X-ALT-DESC;FMTTYPE=text/html:Sawyer Brown<br />\nAmerican Country Music at its finest! Sawyer Brown has released eighteen studio albums and charted over 50 times with several Number 1 singles including Step That Step\, Some Girls Do\, and Thank God for You.
LOCATION:Holmes Theatre 806 Summit Ave Detroit Lakes\, MN 56501
UID:e.1164.34887
SEQUENCE:3
DTSTAMP:20260421T085657Z
URL:https://business.visitdetroitlakes.com/events/details/sawyer-brown-34887
END:VEVENT

END:VCALENDAR
