BEGIN:VCALENDAR
VERSION:2.0
PRODID:-//ChamberMaster//Event Calendar 2.0//EN
METHOD:PUBLISH
X-PUBLISHED-TTL:P3D
REFRESH-INTERVAL:P3D
CALSCALE:GREGORIAN
BEGIN:VEVENT
DTSTART:20200404T150000Z
DTEND:20200404T200000Z
X-MICROSOFT-CDO-ALLDAYEVENT:FALSE
SUMMARY:Maple Syrup Demonstration Day
DESCRIPTION:Maple Syrup Demonstration Day
X-ALT-DESC;FMTTYPE=text/html:Maple Syrup Demonstration Day
LOCATION:Maplewood State Park 39721 Park Entrance Road Pelican Rapids\, MN 56572
UID:e.1164.35101
SEQUENCE:3
DTSTAMP:20260421T212222Z
URL:https://business.visitdetroitlakes.com/events/details/maple-syrup-demonstration-day-35101
END:VEVENT

END:VCALENDAR
