BEGIN:VCALENDAR
VERSION:2.0
PRODID:-//ChamberMaster//Event Calendar 2.0//EN
METHOD:PUBLISH
X-PUBLISHED-TTL:P3D
REFRESH-INTERVAL:P3D
CALSCALE:GREGORIAN
BEGIN:VEVENT
DTSTART:20190815T233000Z
DTEND:20190816T010000Z
X-MICROSOFT-CDO-ALLDAYEVENT:FALSE
SUMMARY:Live Well Die Well Tour and Memorial Service
DESCRIPTION:Live Well Tour Die Well\n\nKimberly C. Paul\, author and speaker\, will share life lessons she learned while working with hospice patients\, and intimate stories that radically changes how she lives. The tour is designed to empower attendees to reclaim death as a human experience and not a medical event.\n\nFollowing her talk\, Kimberly will sign copies of her book\, "Bridging the Gap".\n\nThe event will begin with a community memorial service and butterfly release. Please join us as we remember our loved ones.
X-ALT-DESC;FMTTYPE=text/html:Live Well Tour Die Well<br />\nKimberly C. Paul\, author and speaker\, will share life lessons she learned while working with hospice patients\, and intimate stories that radically changes how she lives. The tour is designed to empower attendees to reclaim death as a human experience and not a medical event.<br />\nFollowing her talk\, Kimberly will sign copies of her book\, &quot\;Bridging the Gap&quot\;.<br />\nThe event will begin with a community memorial service and butterfly release. Please join us as we remember our loved ones.
LOCATION:Ecumen Community 1415 Madison Ave Detroit Lakes\, MN 56501
UID:e.1164.34802
SEQUENCE:3
DTSTAMP:20260423T185550Z
URL:https://business.visitdetroitlakes.com/events/details/live-well-die-well-tour-and-memorial-service-34802
END:VEVENT

END:VCALENDAR
