BEGIN:VCALENDAR
VERSION:2.0
PRODID:-//ChamberMaster//Event Calendar 2.0//EN
METHOD:PUBLISH
X-PUBLISHED-TTL:P3D
REFRESH-INTERVAL:P3D
CALSCALE:GREGORIAN
BEGIN:VEVENT
DTSTART:20180717T140000Z
DTEND:20180720T170000Z
X-MICROSOFT-CDO-ALLDAYEVENT:FALSE
SUMMARY:Junior Summer Golf Camp
DESCRIPTION:The objective of the summer camp is to teach and help juniors gain an understanding of golf in all areas through games\, competition and fun.  A light snack will be provided daily.  Camps are limited to 10 juniors so that each student can receive the attention he or she deserves.
X-ALT-DESC;FMTTYPE=text/html:The objective of the summer camp is to teach and help juniors gain an understanding of golf in all areas through games\, competition and fun.&nbsp\; A light snack will be provided daily.&nbsp\; Camps are limited to 10 juniors so that each student can receive the attention he or she deserves.
LOCATION:Wildflower Golf Course\, 19790 Co. Hwy. 20\, Detroit Lakes\, MN
UID:e.1164.31538
SEQUENCE:3
DTSTAMP:20260422T123047Z
URL:https://business.visitdetroitlakes.com/events/details/junior-summer-golf-camp-31538
END:VEVENT

END:VCALENDAR
