BEGIN:VCALENDAR
VERSION:2.0
PRODID:-//ChamberMaster//Event Calendar 2.0//EN
METHOD:PUBLISH
X-PUBLISHED-TTL:P3D
REFRESH-INTERVAL:P3D
CALSCALE:GREGORIAN
BEGIN:VEVENT
DTSTART:20200108T010000Z
DTEND:20200108T020000Z
X-MICROSOFT-CDO-ALLDAYEVENT:FALSE
SUMMARY:Journaling: Mindfulness 101
DESCRIPTION:Journaling is a great way to reduce stress. If you are not sure where to start\, join us to learn the art and benefits of journaling. Please bring a journal or notebook to write in. This is part of our Mindfulness 101 series. Certified Integrative Nutrition Health Coach Kelsey Juhnke will lead this series on mindfulness.
X-ALT-DESC;FMTTYPE=text/html:Journaling is a great way to reduce stress. If you are not sure where to start\, join us to learn the art and benefits of journaling. Please bring a journal or notebook to write in. This is part of our Mindfulness 101 series. Certified Integrative Nutrition Health Coach Kelsey Juhnke will lead this series on mindfulness.
LOCATION:Detroit Lakes Public Library 1000 Washington Ave Detroit Lakes\, MN 56501
UID:e.1164.35228
SEQUENCE:3
DTSTAMP:20260421T083943Z
URL:https://business.visitdetroitlakes.com/events/details/journaling-mindfulness-101-35228
END:VEVENT

END:VCALENDAR
