BEGIN:VCALENDAR
VERSION:2.0
PRODID:-//ChamberMaster//Event Calendar 2.0//EN
METHOD:PUBLISH
X-PUBLISHED-TTL:P3D
REFRESH-INTERVAL:P3D
CALSCALE:GREGORIAN
BEGIN:VEVENT
DTSTART:20180602T150000Z
DTEND:20180602T210000Z
X-MICROSOFT-CDO-ALLDAYEVENT:FALSE
SUMMARY:Intro to Mountain Biking
DESCRIPTION:This introductory workshop to mountain biking is open to all riders and ability levels.  Those 17 and under may register as long as accompanied by their parent or guardian.  The morning session will break into small groups and cover topics like fixing flats\, basic bike maintenance\, nutrition and clothing\, and what to carry in seat or hydration pack.  The afternoon session offers guided trail rides covering gear selection\, braking\, balance and cornering.
X-ALT-DESC;FMTTYPE=text/html:This introductory workshop to mountain biking is open to all riders and ability levels.&nbsp\; Those 17 and under may register as long as accompanied by their parent or guardian.&nbsp\; The morning session will break into small groups and cover topics like fixing flats\, basic bike maintenance\, nutrition and clothing\, and what to carry in seat or hydration pack.&nbsp\; The afternoon session offers guided trail rides covering gear selection\, braking\, balance and cornering.
LOCATION:Detroit Mountain Recreation Area\, 29409- 170th Street\, Detroit Lakes\, MN
UID:e.1164.32005
SEQUENCE:3
DTSTAMP:20260420T114142Z
URL:https://business.visitdetroitlakes.com/events/details/intro-to-mountain-biking-32005
END:VEVENT

END:VCALENDAR
