BEGIN:VCALENDAR
VERSION:2.0
PRODID:-//ChamberMaster//Event Calendar 2.0//EN
METHOD:PUBLISH
X-PUBLISHED-TTL:P3D
REFRESH-INTERVAL:P3D
CALSCALE:GREGORIAN
BEGIN:VEVENT
DTSTART:20190811T160000Z
DTEND:20190811T200000Z
X-MICROSOFT-CDO-ALLDAYEVENT:FALSE
SUMMARY:Holy Rosary Parish Festival
DESCRIPTION:Don't miss the annual Parish Festival.  Lots of good food\, games\, auction and fun!
X-ALT-DESC;FMTTYPE=text/html:Don&#39\;t miss the annual Parish Festival.&nbsp\; Lots of good food\, games\, auction and fun!
LOCATION:Holy Rosary Church\, 1043 Lake Avenue\, Detroit Lakes\, MN
UID:e.1164.33646
SEQUENCE:3
DTSTAMP:20260423T232534Z
URL:https://business.visitdetroitlakes.com/events/details/holy-rosary-parish-festival-33646
END:VEVENT

END:VCALENDAR
