BEGIN:VCALENDAR
VERSION:2.0
PRODID:-//ChamberMaster//Event Calendar 2.0//EN
METHOD:PUBLISH
X-PUBLISHED-TTL:P3D
REFRESH-INTERVAL:P3D
CALSCALE:GREGORIAN
BEGIN:VEVENT
DTSTART:20210128T140000Z
DTEND:20210128T153000Z
X-MICROSOFT-CDO-ALLDAYEVENT:FALSE
SUMMARY:DL Chamber Board Meeting
DESCRIPTION:
X-ALT-DESC;FMTTYPE=text/html:
LOCATION:virtual
UID:e.1164.35974
SEQUENCE:3
DTSTAMP:20260420T025133Z
URL:https://business.visitdetroitlakes.com/events/details/dl-chamber-board-meeting-35974
END:VEVENT

END:VCALENDAR
