BEGIN:VCALENDAR
VERSION:2.0
PRODID:-//ChamberMaster//Event Calendar 2.0//EN
METHOD:PUBLISH
X-PUBLISHED-TTL:P3D
REFRESH-INTERVAL:P3D
CALSCALE:GREGORIAN
BEGIN:VEVENT
DTSTART:20260508T131500Z
DTEND:20260508T143000Z
X-MICROSOFT-CDO-ALLDAYEVENT:FALSE
SUMMARY:COMPASS YP - Permission to Mingle
DESCRIPTION:Say goodbye to stiff handshakes and awkward small talk! Join us for an energizing\, joy-filled keynote with Princess Paula\, a nationally recognized speaker who's redefining networking.\n\nThrough storytelling\, laughter\, and practical strategies\, Princess Paula will show you how to:\n\n-Connect with confidence\n\n-Spark unforgettable conversations\n\n-Enjoy networking yes\, really!\n\nWhether you're an introvert\, a reluctant extrovert\, or somewhere in between\, you'll leave feeling empowered\, equipped\, and ready to walk into any room like you own it.\n\nDon't miss this opportunity to learn\, laugh\, and network your way with a little sparkle!\n\nEvent Schedule:\n\nNetworking: 8:15 - 8:30 AM\n\nPresentation: 8:30 - 9:30 AM\n\nThis event is open to both COMPASS Members and those interested in COMPASS Young Professionals. Come check what the program is like and connect with some of our members to see if COMPASS YP is right for you (open to young professionals ages 18-40)!\n\nPlease sign up here: https://forms.office.com/r/6Se3UqGcQj
X-ALT-DESC;FMTTYPE=text/html:<div class="xdj266r x14z9mp xat24cr x1lziwak x1vvkbs" style="margin-inline: 0px\; overflow-wrap: break-word\; margin-bottom: 0px\; margin-top: 0px\; font-family: &quot\;Segoe UI Historic&quot\;\, &quot\;Segoe UI&quot\;\, Helvetica\, Arial\, sans-serif\; color: rgb(8\, 8\, 9)\; font-size: 15px\;">Say goodbye to stiff handshakes and awkward small talk! Join us for an energizing\, joy-filled keynote with Princess Paula\, a nationally recognized speaker who&rsquo\;s redefining networking.</div>\n\n<div class="x14z9mp xat24cr x1lziwak x1vvkbs xtlvy1s" style="margin-inline: 0px\; overflow-wrap: break-word\; margin-bottom: 0px\; margin-top: 0.5em\; font-family: &quot\;Segoe UI Historic&quot\;\, &quot\;Segoe UI&quot\;\, Helvetica\, Arial\, sans-serif\; color: rgb(8\, 8\, 9)\; font-size: 15px\;">Through storytelling\, laughter\, and practical strategies\, Princess Paula will show you how to:<br class="html-br" />\n-Connect with confidence<br class="html-br" />\n-Spark unforgettable conversations<br class="html-br" />\n-Enjoy networking&mdash\;yes\, really!</div>\n\n<div class="x14z9mp xat24cr x1lziwak x1vvkbs xtlvy1s" style="margin-inline: 0px\; overflow-wrap: break-word\; margin-bottom: 0px\; margin-top: 0.5em\; font-family: &quot\;Segoe UI Historic&quot\;\, &quot\;Segoe UI&quot\;\, Helvetica\, Arial\, sans-serif\; color: rgb(8\, 8\, 9)\; font-size: 15px\;">Whether you&rsquo\;re an introvert\, a reluctant extrovert\, or somewhere in between\, you&rsquo\;ll leave feeling empowered\, equipped\, and ready to walk into any room like you own it.</div>\n\n<div class="x14z9mp xat24cr x1lziwak x1vvkbs xtlvy1s" style="margin-inline: 0px\; overflow-wrap: break-word\; margin-bottom: 0px\; margin-top: 0.5em\; font-family: &quot\;Segoe UI Historic&quot\;\, &quot\;Segoe UI&quot\;\, Helvetica\, Arial\, sans-serif\; color: rgb(8\, 8\, 9)\; font-size: 15px\;">Don&rsquo\;t miss this opportunity to learn\, laugh\, and network your way&mdash\;with a little sparkle!</div>\n\n<div class="x14z9mp xat24cr x1lziwak x1vvkbs xtlvy1s" style="margin-inline: 0px\; overflow-wrap: break-word\; margin-bottom: 0px\; margin-top: 0.5em\; font-family: &quot\;Segoe UI Historic&quot\;\, &quot\;Segoe UI&quot\;\, Helvetica\, Arial\, sans-serif\; color: rgb(8\, 8\, 9)\; font-size: 15px\;">Event Schedule:<br class="html-br" />\nNetworking: 8:15 - 8:30 AM<br class="html-br" />\nPresentation: 8:30 - 9:30 AM</div>\n\n<div class="x14z9mp xat24cr x1lziwak x1vvkbs xtlvy1s" style="margin-inline: 0px\; overflow-wrap: break-word\; margin-bottom: 0px\; margin-top: 0.5em\; font-family: &quot\;Segoe UI Historic&quot\;\, &quot\;Segoe UI&quot\;\, Helvetica\, Arial\, sans-serif\; color: rgb(8\, 8\, 9)\; font-size: 15px\;">This event is open to both COMPASS Members and those interested in COMPASS Young Professionals. Come check what the program is like and connect with some of our members to see if COMPASS YP is right for you (open to young professionals ages 18-40)!</div>\n\n<div class="x14z9mp xat24cr x1lziwak x1vvkbs xtlvy1s" style="margin-inline: 0px\; overflow-wrap: break-word\; margin-bottom: 0px\; margin-top: 0.5em\; font-family: &quot\;Segoe UI Historic&quot\;\, &quot\;Segoe UI&quot\;\, Helvetica\, Arial\, sans-serif\; color: rgb(8\, 8\, 9)\; font-size: 15px\;"><u><strong>Please sign up here:</strong></u>&nbsp\;<a attributionsrc="/privacy_sandbox/comet/register/source/?xt=AZYrvzehd3GAVKOLQKYwoBjBs1Vm93W8K66bpUjl9e0mK4yKDoWfTiVjOvNlDbTlPZJvpXtGfIjoBTbroeOqRGUxXT8O3c9Xlo-IWWe7Uv2qrXh1Po4sUF6GgTcUppYqOTR3_Z5yKFpmX3tBVXR66wK3MT2NFJhTCVAWj9QfLOa_nGEAmr6Zq4sleNvr5XCKVeF1ZRW701J6AAv5KAcTK6K4yXD4xUkHE7_4xQkyZSIZI_Qi6d5Ch1VFYWJaPqXD4fq2I3q6C3qRuFG_721yDr5r3PXdgZrEYb18nAiDmxzXWBhzdqr9HrkSBIY9xTN-6rV4qycVz9_2GTXPtB3ByW9mB0radBMU2r-3VRzyS3p8tl_OQzGDy9pOJFog0KktvFsnL2RiVZ_njAyP6h9x61BQQzJE0uyrYoaipCUtnLEIgUSviVI6RdfdavUugnoLOErLl_ELIxGOSlKuQ284f4JYDEKXONebESkKDlEj7QIJTPm0naSHGEZwsjHO6JORVEngPNafLZViVm14rQciE6Cq02ZL3A3_hppJS9RoLx8-YUZGpzxOlNT_4ug8Plsj9yIWOcKH8oyHb9hdRDwPTIl96HD3SQrjxzGVnk7iZbbuba91mYJs_DpWDQ14Jd9GlbvKqzO4mKAhoVtKBGk_E-3E_x4Gm9FucJCPlvaIHSnr_Q4wjO9PORMIJKFe_LSoqxZa5nN1VSrDKZJ8ICPlJLhTUn38DL6t1vMRs-Nk_h_SDbU-a_sC1jpoZ7GnDE6hjg3YTfEdsIZHz-bkDjgwX9eR2LaRkoozEZqecVPrrw6Loul6vF2i5K48LMsxs7_fN-34LFd-woAkm87cFcFncpi2x3OH_2CVykvC8CDaGWn_5g" class="x1i10hfl xjbqb8w x1ejq31n x18oe1m7 x1sy0etr xstzfhl x972fbf x10w94by x1qhh985 x14e42zd x9f619 x1ypdohk xt0psk2 x3ct3a4 xdj266r x14z9mp xat24cr x1lziwak xexx8yu xyri2b x18d9i69 x1c1uobl x16tdsg8 x1hl2dhg xggy1nq x1a2a7pz xkrqix3 x1sur9pj x1fey0fg x1s688f" href="https://forms.office.com/r/6Se3UqGcQj?fbclid=IwZXh0bgNhZW0CMTAAYnJpZBExNUp6S0tZZmx1UHM4RzNBTnNydGMGYXBwX2lkEDIyMjAzOTE3ODgyMDA4OTIAAR7fcPF03f3AK48likxtdbJ3Uu6dnLTZ3lOGT-hKdSTlJ88C8MjTNberLlyluw_aem_30g_3-rMIaH0ezFw0phTIw" rel="nofollow noreferrer" role="link" style="color: rgb(0\, 100\, 209)\; cursor: pointer\; text-decoration: none\; outline: none\; border-inline-width: 0px\; margin-inline: 0px\; text-align: inherit\; border-inline-style: none\; padding-inline: 0px\; -webkit-tap-highlight-color: transparent\; font-weight: 600\; list-style-type: none\; box-sizing: border-box\; touch-action: manipulation\; background-color: transparent\; display: inline\; padding-bottom: 0px\; border-top-style: none\; border-bottom-width: 0px\; border-bottom-style: none\; border-top-width: 0px\; margin-bottom: 0px\; margin-top: 0px\; padding-top: 0px\; font-family: inherit\;" tabindex="0" target="_blank">https://forms.office.com/r/6Se3UqGcQj</a></div>\n
LOCATION:Becker County Museum
UID:e.1164.36753
SEQUENCE:3
DTSTAMP:20260424T213131Z
URL:https://business.visitdetroitlakes.com/events/details/compass-yp-permission-to-mingle-36753
END:VEVENT

END:VCALENDAR
