BEGIN:VCALENDAR
VERSION:2.0
PRODID:-//ChamberMaster//Event Calendar 2.0//EN
METHOD:PUBLISH
X-PUBLISHED-TTL:P3D
REFRESH-INTERVAL:P3D
CALSCALE:GREGORIAN
BEGIN:VEVENT
DTSTART:20191227T020000Z
DTEND:20191227T030000Z
X-MICROSOFT-CDO-ALLDAYEVENT:FALSE
SUMMARY:DL Chamber Board of Directors Meeting
DESCRIPTION:Board of Director's Monthly Meeting
X-ALT-DESC;FMTTYPE=text/html:Board of Director&#39\;s Monthly Meeting
LOCATION:
UID:e.1164.34964
SEQUENCE:3
DTSTAMP:20260425T211809Z
URL:https://business.visitdetroitlakes.com/events/details/chamber-board-of-directors-meeting-12-26-2019-34964
END:VEVENT

END:VCALENDAR
