BEGIN:VCALENDAR
VERSION:2.0
PRODID:-//ChamberMaster//Event Calendar 2.0//EN
METHOD:PUBLISH
X-PUBLISHED-TTL:P3D
REFRESH-INTERVAL:P3D
CALSCALE:GREGORIAN
BEGIN:VEVENT
DTSTART:20200324T213000Z
DTEND:20200325T000000Z
X-MICROSOFT-CDO-ALLDAYEVENT:FALSE
SUMMARY:CANCELED DL Breakfast Rotary Meatball Dinner
DESCRIPTION:CANCELED\n\nJoin us for our 13th Annual Meatball Dinner.  All proceeds will be donated to the Becker County Food Pantry.  Meals available "to go".
X-ALT-DESC;FMTTYPE=text/html:<span style="font-size:14px\;"><strong>CANCELED</strong></span><br />\nJoin us for our 13th Annual Meatball Dinner.&nbsp\; All proceeds will be donated to the Becker County Food Pantry.&nbsp\; Meals available &quot\;to go&quot\;.
LOCATION:M State Cafeteria\, 900 Hwy. 34 East\, Detroit Lakes\, MN
UID:e.1164.35578
SEQUENCE:3
DTSTAMP:20260419T221201Z
URL:https://business.visitdetroitlakes.com/events/details/canceled-dl-breakfast-rotary-meatball-dinner-35578
END:VEVENT

END:VCALENDAR
